BEGIN:VCALENDAR
VERSION:2.0
PRODID:-//ChatGPT//GYMNA Barren//CH
BEGIN:VEVENT
DTSTART:20260118T130000
DTEND:20260118T160000
SUMMARY:GYMNA - Schnuppertraining
LOCATION:Oberriet
DESCRIPTION:Freiwilliger Ausklang
END:VEVENT
BEGIN:VEVENT
DTSTART:20260221T130000
DTEND:20260221T160000
SUMMARY:GYMNA - Gruppentraining 1
LOCATION:Oberriet
DESCRIPTION:Freiwilliger Ausklang
END:VEVENT
BEGIN:VEVENT
DTSTART:20260418T130000
DTEND:20260418T160000
SUMMARY:GYMNA - Gruppentraining 2
LOCATION:Oberriet
DESCRIPTION:Barren 13:00–16:00 | Boden 14:00–17:00
END:VEVENT
BEGIN:VEVENT
DTSTART:20260704T130000
DTEND:20260704T160000
SUMMARY:GYMNA - Zusammenzug 1
LOCATION:Oberriet
DESCRIPTION:Anschliessender Ausklang
END:VEVENT
BEGIN:VEVENT
DTSTART:20260809T130000
DTEND:20260809T160000
SUMMARY:GYMNA - Zusammenzug 2
LOCATION:Balgach
DESCRIPTION:
END:VEVENT
BEGIN:VEVENT
DTSTART:20260920T130000
DTEND:20260920T160000
SUMMARY:GYMNA - Gruppentraining 3
LOCATION:Balgach
DESCRIPTION:
END:VEVENT
BEGIN:VEVENT
DTSTART:20261017T090000
DTEND:20261017T210000
SUMMARY:GYMNA - Trainingsweekend
LOCATION:Balgach
DESCRIPTION:Mit Nachtessen / Ausklang
END:VEVENT
BEGIN:VEVENT
DTSTART:20261018T100000
DTEND:20261018T160000
SUMMARY:GYMNA - Trainingsweekend - Blockbesuch
LOCATION:Balgach
DESCRIPTION:
END:VEVENT
BEGIN:VEVENT
DTSTART:20261213T130000
DTEND:20261213T160000
SUMMARY:GYMNA - Zusammenzug 3
LOCATION:Balgach
DESCRIPTION:
END:VEVENT
BEGIN:VEVENT
DTSTART:20270117T090000
DTEND:20270117T160000
SUMMARY:GYMNA - Trainingstag
LOCATION:Oberriet
DESCRIPTION:
END:VEVENT
BEGIN:VEVENT
DTSTART:20270213T130000
DTEND:20270213T160000
SUMMARY:GYMNA - Zusammenzug 4 - Blockbesuch
LOCATION:Balgach
DESCRIPTION:Freiwilliger Ausklang
END:VEVENT
BEGIN:VEVENT
DTSTART:20270306T130000
DTEND:20270306T160000
SUMMARY:GYMNA - Gruppentraining 5
LOCATION:Oberriet
DESCRIPTION:
END:VEVENT
BEGIN:VEVENT
DTSTART:20270404T130000
DTEND:20270404T160000
SUMMARY:GYMNA - Zusammenzug 5
LOCATION:Oberriet
DESCRIPTION:
END:VEVENT
BEGIN:VEVENT
DTSTART:20270515T130000
DTEND:20270515T160000
SUMMARY:GYMNA - Zusammenzug 6
LOCATION:Balgach
DESCRIPTION:Pfingstsamstag – kurzes Training
END:VEVENT
BEGIN:VEVENT
DTSTART:20270703T130000
DTEND:20270703T160000
SUMMARY:GYMNA - Zusammenzug 7
LOCATION:Oberriet
DESCRIPTION:Eher kurzes Training
END:VEVENT
END:VCALENDAR